BEGIN:VCALENDAR
VERSION:2.0
PRODID:-// - ECPv6.10.1//NONSGML v1.0//EN
CALSCALE:GREGORIAN
METHOD:PUBLISH
X-ORIGINAL-URL:https://www.cebrusa.com
X-WR-CALDESC:Events for 
REFRESH-INTERVAL;VALUE=DURATION:PT1H
X-Robots-Tag:noindex
X-PUBLISHED-TTL:PT1H
BEGIN:VTIMEZONE
TZID:America/New_York
BEGIN:DAYLIGHT
TZOFFSETFROM:-0500
TZOFFSETTO:-0400
TZNAME:EDT
DTSTART:20240310T070000
END:DAYLIGHT
BEGIN:STANDARD
TZOFFSETFROM:-0400
TZOFFSETTO:-0500
TZNAME:EST
DTSTART:20241103T060000
END:STANDARD
BEGIN:DAYLIGHT
TZOFFSETFROM:-0500
TZOFFSETTO:-0400
TZNAME:EDT
DTSTART:20250309T070000
END:DAYLIGHT
BEGIN:STANDARD
TZOFFSETFROM:-0400
TZOFFSETTO:-0500
TZNAME:EST
DTSTART:20251102T060000
END:STANDARD
END:VTIMEZONE
BEGIN:VEVENT
DTSTART;VALUE=DATE:20250224
DTEND;VALUE=DATE:20250225
DTSTAMP:20260420T130800
CREATED:20250211T144904Z
LAST-MODIFIED:20250211T144904Z
UID:9871-1740355200-1740441599@www.cebrusa.com
SUMMARY:Data Modeling 101 @ Global Power BI Fabric Summit 2025
DESCRIPTION:I will be participating as a Speaker at the international Conference: Power BI & Microsoft Fabric Global Summit 2025 edition. \nThis is the event to learn the best practices\, new features\, and lessons in Microsoft Fabric and Power BI world by attending a single conference that offers both topics. \nEvent website: https://globalpowerbisummit.com/
URL:https://www.cebrusa.com/event/data-modeling-101-global-power-bi-fabric-summit-2025/
LOCATION:FL
CATEGORIES:Public Speaking
END:VEVENT
BEGIN:VEVENT
DTSTART;TZID=America/New_York:20241019T133000
DTEND;TZID=America/New_York:20241019T143000
DTSTAMP:20260420T130800
CREATED:20250211T152328Z
LAST-MODIFIED:20250211T152328Z
UID:9893-1729344600-1729348200@www.cebrusa.com
SUMMARY:Intro to Power BI for Data Analysis & Visualization at SQL Saturday Orlando 2024
DESCRIPTION:I have the honor and pleasure of participating at SQL Saturday Orlando 2024 Data Conference taking place in Seminole State College\, Sanford\, Florida. \nSQL Saturday Orlando is a free one day training event for IT professionals and students interested in the Microsoft data platform (SQL Server\, PowerBI\, SSIS\, and much more). \nDon’t miss our introductory class on Power BI for Data Analysis & Visualization delivered by Cecilia Brusatori. \nRegistration link: https://sqlsaturday.com/2024-10-19-sqlsaturday1089/ \n \n  \nSpeaker: Cecilia Brusatori \nPresentation: Introduction to Power BI for Data Analysis & Visualization \nDescription: \nThis session includes an overview of the Power BI Platform as part of the Microsoft Analytics Ecosystem. We will go through how to create content in Power BI for Data Analysis & Visualization. Finalizing with the sharing and collaboration capabilities.
URL:https://www.cebrusa.com/event/intro-to-power-bi-for-data-analysis-visualization-at-sql-saturday-orlando-2024/
LOCATION:Seminole State College of Florida – Orlando\, 100 Weldon Blvd\, Sanford\, FL\, 32773\, United States
CATEGORIES:Conference
END:VEVENT
END:VCALENDAR